BEGIN:VCALENDAR
VERSION:2.0
PRODID:-//eventon.com NONSGML v1.0//EN
CALSCALE:GREGORIAN
METHOD:PUBLISH
BEGIN:VEVENT
UID:69e5f9bc8a540
DTSTAMP:20260420T120236
DTSTART:20221217T230000Z
DTEND:20221218T030000Z
TZID:Pacific/Midway
LOCATION:Bliesgau-Alpaka Erzentaler Hof\,  Im Erzental 1\,  66453 Gersheim
SUMMARY:Saarpfalz Touristik - Wintertour im Dezember
DESCRIPTION: Wichtige Information: Die Buchung der Saarpfalz-Touristik Wanderungen erfolgt über: Saarpfalz-Touristik Paradeplatz 4 66440 Blieskastel Tel.: +49 (0) 6841-104-7174 Unterwegs im Bliesgau mit sanftmütigen Seelenstreichlern Paco\,  Liam\,  Rossi und viele weitere flauschige Freunde heißen Sie herzlich willkommen! Die niedlichen Alpakas (ver)führen Sie mit ihren großen treuen Augen und ihrer sanften Energie[..]\nhttps://www.bliesgau-alpaka.de/Veranstaltungen/saarpfalz-touristik-wintertour-im-dezember/
URL:https://www.bliesgau-alpaka.de/Veranstaltungen/saarpfalz-touristik-wintertour-im-dezember/
END:VEVENT
END:VCALENDAR