BEGIN:VCALENDAR
VERSION:2.0
PRODID:-//eventon.com NONSGML v1.0//EN
CALSCALE:GREGORIAN
METHOD:PUBLISH
BEGIN:VEVENT
UID:69e5fb512b884
DTSTAMP:20260420T120921
DTSTART:20230318T100000Z
DTEND:20230318T120000Z
TZID:Europe/Berlin
LOCATION:Bliesgau-Alpaka Erzentaler Hof\,  Im Erzental 1\,  66453 Gersheim
SUMMARY:Biosphären Tour - Alpaka Wanderung
DESCRIPTION: Wichtig: Eine Anmeldung ist vorab erforderlich\,  per E-Mail an info@bliesgau-alpaka.de oder Telefon 06803 3910522 &nbsp; Rund um das Bliesgaudorf Erfweiler-Ehlingen führt uns ein Rundweg von 3km Länge über sanfte Hügel. Nach einer kurzen Einweisung\,  bei der wir Ihnen Wissenswertes über die sanften Andentiere vermitteln\,  besuchen wir die Stuten mit ihrem[..]\nhttps://www.bliesgau-alpaka.de/Veranstaltungen/biosphaeren-tour-alpaka-wanderung-mar18/
URL:https://www.bliesgau-alpaka.de/Veranstaltungen/biosphaeren-tour-alpaka-wanderung-mar18/
END:VEVENT
END:VCALENDAR