BEGIN:VCALENDAR
VERSION:2.0
PRODID:-//eventon.com NONSGML v1.0//EN
CALSCALE:GREGORIAN
METHOD:PUBLISH
BEGIN:VEVENT
UID:69e74bb6dfee2
DTSTAMP:20260421T120438
DTSTART:20240323
DTEND:20240409
TZID:Pacific/Midway
LOCATION:
SUMMARY:Wir machen Betriebs-Ferien vom 23.03 bis 07.04.2024
DESCRIPTION: Keine Termine möglich.\nhttps://www.bliesgau-alpaka.de/Veranstaltungen/betriebs-ferien/
URL:https://www.bliesgau-alpaka.de/Veranstaltungen/betriebs-ferien/
END:VEVENT
END:VCALENDAR