BEGIN:VCALENDAR
VERSION:2.0
PRODID:-//eventon.com NONSGML v1.0//EN
CALSCALE:GREGORIAN
METHOD:PUBLISH
BEGIN:VEVENT
UID:69e89ada3cad0
DTSTAMP:20260422T115434
DTSTART:20240921T080000Z
DTEND:20240921T090000Z
TZID:Europe/Berlin
LOCATION:Bliesgau-Alpaka Erzentaler Hof\,  Im Erzental 1\,  66453 Gersheim
SUMMARY:BABY Alpaka Special Event -  Alpaka-Fohlen Kennenlernen
DESCRIPTION: Alpaka Fohlen Kennenlernen Wichtig: Eine Anmeldung ist vorab erforderlich\,  per E-Mail an info@bliesgau-alpaka.de oder Telefon 06803 3910522 Kosten: Erwachsene  15€ / Kinder 10€ Dauer: circa 1h Unsere Alpaka-Fohlen hautnah Ein einmaliges Erlebnis Unsere Fohlen 2023 sind an Pfingsten geboren. Aus diesem Grund bieten wir ein Special Baby-Alpaka Event an. Ablauf:[..]\nhttps://www.bliesgau-alpaka.de/Veranstaltungen/baby-alpaka-special-event-alpaka-fohlen-kennenlernen-jul24/
URL:https://www.bliesgau-alpaka.de/Veranstaltungen/baby-alpaka-special-event-alpaka-fohlen-kennenlernen-jul24/
END:VEVENT
END:VCALENDAR