BEGIN:VCALENDAR
VERSION:2.0
PRODID:-//eventon.com NONSGML v1.0//EN
CALSCALE:GREGORIAN
METHOD:PUBLISH
BEGIN:VEVENT
UID:69e5f654e2d25
DTSTAMP:20260420T114804
DTSTART:20251207T130000Z
DTEND:20251207T160000Z
TZID:Europe/Berlin
LOCATION:Bliesgau-Alpaka Erzentaler Hof\,  Im Erzental 1\,  66453 Gersheim
SUMMARY:Advents Alpaka- Kennenlernen und Fütterung in weihnachtlicher Atmosphäre sowie Plätzchen backen für Kinder
DESCRIPTION: Alpaka Kennenlernen und Fütterung in weihnachtlicher Atmosphäre sowie Plätzchen backen für Kinder Wichtig: Eine Anmeldung ist vorab erforderlich\,  per E-Mail an erzentalerhof.gersheim@gmail.com oder Telefon 06843/3040623 Kosten: Erwachsene  25€ / Kinder ab 5 Jahren 25€ Dauer: circa 3h Unsere Alpakas hautnah in weihnachtlicher Stimmung erleben Ein einmaliges Erlebnis im dekorierten gemütlichen[..]\nhttps://www.bliesgau-alpaka.de/Veranstaltungen/advents-alpaka-kennenlernen-und-fuetterung-in-weihnachtlicher-atmosphaere-sowie-plaetzchen-backen-fuer-kinder-copy/
URL:https://www.bliesgau-alpaka.de/Veranstaltungen/advents-alpaka-kennenlernen-und-fuetterung-in-weihnachtlicher-atmosphaere-sowie-plaetzchen-backen-fuer-kinder-copy/
END:VEVENT
END:VCALENDAR