BEGIN:VCALENDAR
VERSION:2.0
PRODID:-//eventon.com NONSGML v1.0//EN
CALSCALE:GREGORIAN
METHOD:PUBLISH
BEGIN:VEVENT
UID:69e5fa6130c6c
DTSTAMP:20260420T120521
DTSTART:20251130T143000Z
DTEND:20251130T163000Z
TZID:Europe/Berlin
LOCATION:Bliesgau-Alpaka Erzentaler Hof\,  Im Erzental 1\,  66453 Gersheim
SUMMARY:Advents Alpaka- Kennenlernen und Fütterung in weihnachtlicher Atmosphäre
DESCRIPTION: Alpaka Kennenlernen und Fütterung in weihnachtlicher Atmosphäre Wichtig: Eine Anmeldung ist vorab erforderlich\,  per E-Mail an erzentalerhof.gersheim@gmail.com oder Telefon 06843/3040623 Kosten: Erwachsene  18€ / Kinder ab 6 Jahren 15€ Dauer: circa 1\, 5-2h Unsere Alpakas hautnah in weihnachtlicher Stimmung Ein einmaliges Erlebnis im dekorierten gemütlichen Alpaka Stall Ablauf: – Erfahren Sie[..]\nhttps://www.bliesgau-alpaka.de/Veranstaltungen/advents-alpaka-kennenlernen-und-fuetterung-in-weihnachtlicher-atmosphaere-copy/
URL:https://www.bliesgau-alpaka.de/Veranstaltungen/advents-alpaka-kennenlernen-und-fuetterung-in-weihnachtlicher-atmosphaere-copy/
END:VEVENT
END:VCALENDAR