BEGIN:VCALENDAR
VERSION:2.0
PRODID:-//eventon.com NONSGML v1.0//EN
CALSCALE:GREGORIAN
METHOD:PUBLISH
BEGIN:VEVENT
UID:69e74da799aa1
DTSTAMP:20260421T121255
DTSTART:20260404T113000Z
DTEND:20260404T153000Z
TZID:Europe/Berlin
LOCATION:Bliesgau-Alpaka Erzentaler Hof\,  Im Erzental 1\,  66453 Gersheim
SUMMARY:Ostereiersuche bei den Bliesgau Alpakas – Ein unvergessliches Ostererlebnis für Kinder—Ausgebucht!—
DESCRIPTION:  Ostereiersuche bei den Bliesgau Alpakas – Ein unvergessliches Ostererlebnis für Kinder! Verbringt einen besonderen Ostersamstag auf unserem Hof und freut euch auf ein tierisches Abenteuer mit unseren flauschigen Alpakas! Das erwartet euch: ✨ Spannende Ostereiersuche mit kleinen Überraschungen ✨ Alpakas hautnah erleben &amp; füttern ✨ Kreatives Filzen – bastelt eure[..]\nhttps://www.bliesgau-alpaka.de/Veranstaltungen/alpaka-kennenlernen-und-fuetterung/
URL:https://www.bliesgau-alpaka.de/Veranstaltungen/alpaka-kennenlernen-und-fuetterung/
END:VEVENT
END:VCALENDAR