BEGIN:VCALENDAR
VERSION:2.0
PRODID:-//eventon.com NONSGML v1.0//EN
CALSCALE:GREGORIAN
METHOD:PUBLISH
BEGIN:VEVENT
UID:69e5f9765bfac
DTSTAMP:20260420T120126
DTSTART:20250629T090000Z
DTEND:20250629T130000Z
TZID:Europe/Berlin
LOCATION:Bliesgau-Alpaka Erzentaler Hof\,  Im Erzental 1\,  66453 Gersheim
SUMMARY:Biosphären Tour - Alpaka Wanderung7- 8 km
DESCRIPTION: Alpaka-Wanderung in Gersheim – Natur erleben &amp; Alpakas hautnah spüren! Datum: 29.Juni. 2025 Uhrzeit: 11:00 Uhr Dauer: ca. 4-5 Stunden Ort: Erzentalerhof\,  Gersheim Preis: • 42€ pro Person mit Alpaka • 18 € pro Person als Begleitung ohne Alpaka • Kinder unter 6 Jahren kostenlos \,  Kinder bis 14 Jahre[..]\nhttps://www.bliesgau-alpaka.de/Veranstaltungen/biosphaeren-tour-alpaka-wanderung-8-km/
URL:https://www.bliesgau-alpaka.de/Veranstaltungen/biosphaeren-tour-alpaka-wanderung-8-km/
END:VEVENT
END:VCALENDAR