BEGIN:VCALENDAR
VERSION:2.0
PRODID:-//eventon.com NONSGML v1.0//EN
CALSCALE:GREGORIAN
METHOD:PUBLISH
BEGIN:VEVENT
UID:69e4e65d2329c
DTSTAMP:20260419T162741
DTSTART:20250601T120000Z
DTEND:20250601T150000Z
TZID:Europe/Berlin
LOCATION:Bliesgau-Alpaka Erzentaler Hof\,  Im Erzental 1\,  66453 Gersheim
SUMMARY:Biosphären Tour - Alpaka Wanderung 6 km ! Ausgebucht !
DESCRIPTION: Alpaka-Wanderung in Gersheim – Natur erleben &amp; Alpakas hautnah spüren! Datum: 01. Juni 2025 Uhrzeit: 14:00 Uhr Dauer: ca. 4–5 Stunden Ort: Erzentalerhof\,  Gersheim Preis: • 38 € pro Person mit Alpaka • 18 € pro Person als Begleitung ohne Alpaka • Kinder unter 6 Jahren kostenlos \, Kinder bis 14[..]\nhttps://www.bliesgau-alpaka.de/Veranstaltungen/biosphaeren-tour-alpaka-wanderung-4-km-3/
URL:https://www.bliesgau-alpaka.de/Veranstaltungen/biosphaeren-tour-alpaka-wanderung-4-km-3/
END:VEVENT
END:VCALENDAR