BEGIN:VCALENDAR
VERSION:2.0
PRODID:-//eventon.com NONSGML v1.0//EN
CALSCALE:GREGORIAN
METHOD:PUBLISH
BEGIN:VEVENT
UID:69e74a005a160
DTSTAMP:20260421T115720
DTSTART:20260125T130000Z
DTEND:20260125T143000Z
TZID:Europe/Berlin
LOCATION:Bliesgau-Alpaka Erzentaler Hof\,  Im Erzental 1\,  66453 Gersheim
SUMMARY:Alpaka- Kennenlernen und Fütterung sowie Kennenlernen unserere Hoftiere
DESCRIPTION: Alpakas hautnah erleben &amp;  kennenlernen Ein unvergessliches Erlebnis für die ganze Familie! Erleben Sie unsere neugierigen Alpakas aus nächster Nähe\,  füttern Sie sie und lernen Sie die restlichen Tiere auf dem Hof kennen sowie unsere nur wenige Wochen alten Ziegenbabys Wann? 📅 Datum: 25.01.2026 ⏰ Uhrzeit: 14:00 – 15:30 Uhr[..]\nhttps://www.bliesgau-alpaka.de/Veranstaltungen/alpaka-kennenlernen-und-fuetterung-sowie-kennenlernen-unserere-hoftiere/
URL:https://www.bliesgau-alpaka.de/Veranstaltungen/alpaka-kennenlernen-und-fuetterung-sowie-kennenlernen-unserere-hoftiere/
END:VEVENT
END:VCALENDAR