BEGIN:VCALENDAR
VERSION:2.0
PRODID:-//eventon.com NONSGML v1.0//EN
CALSCALE:GREGORIAN
METHOD:PUBLISH
BEGIN:VEVENT
UID:69e5f953832f8
DTSTAMP:20260420T120051
DTSTART:20251206T110000Z
DTEND:20251206T130000Z
TZID:Europe/Berlin
LOCATION:Bliesgau-Alpaka Erzentaler Hof\,  Im Erzental 1\,  66453 Gersheim
SUMMARY:Glühwein- Alpaka-Wanderung 2-2\, 5 Km
DESCRIPTION: Glühwein Alpaka-Wanderung in Gersheim – Natur erleben &amp; Alpakas hautnah spüren! Datum: 06. Dezember 2025 Uhrzeit: 12:00 Uhr Dauer: ca. 2–2\, 5Stunden Ort: Erzentalerhof\,  Gersheim Preis: • 35 € pro Person mit Alpaka • 21 € pro Person als Begleitung ohne Alpaka • Kinder unter 6 Jahren kostenlos \, Kinder bis 14[..]\nhttps://www.bliesgau-alpaka.de/Veranstaltungen/gluehwein-alpaka-wanderung-2-25-km/
URL:https://www.bliesgau-alpaka.de/Veranstaltungen/gluehwein-alpaka-wanderung-2-25-km/
END:VEVENT
END:VCALENDAR