BEGIN:VCALENDAR
VERSION:2.0
PRODID:-//eventon.com NONSGML v1.0//EN
CALSCALE:GREGORIAN
METHOD:PUBLISH
BEGIN:VEVENT
UID:69e5f9bc9adc0
DTSTAMP:20260420T120236
DTSTART:20260131T123000Z
DTEND:20260131T150000Z
TZID:Europe/Berlin
LOCATION:Bliesgau-Alpaka Erzentaler Hof\,  Im Erzental 1\,  66453 Gersheim
SUMMARY:Winterliche- Alpaka-Wanderung 2-2\, 5 Km mit heißen Getränken
DESCRIPTION: Winterliche Alpaka-Wanderung in Gersheim – Natur erleben &amp; Alpakas hautnah spüren! Datum: 31. Januar 2026 Uhrzeit: 13:30 Uhr Dauer: ca. 2–2\, 5Stunden Ort: Erzentalerhof\,  Gersheim Preis: • 35 € pro Person mit Alpaka • 21 € pro Person als Begleitung ohne Alpaka • Kinder unter 6 Jahren kostenlos \, Kinder bis 14[..]\nhttps://www.bliesgau-alpaka.de/Veranstaltungen/gluehwein-alpaka-wanderung-2-25-km-2/
URL:https://www.bliesgau-alpaka.de/Veranstaltungen/gluehwein-alpaka-wanderung-2-25-km-2/
END:VEVENT
END:VCALENDAR