BEGIN:VCALENDAR
VERSION:2.0
PRODID:-//eventon.com NONSGML v1.0//EN
CALSCALE:GREGORIAN
METHOD:PUBLISH
BEGIN:VEVENT
UID:69e4f45bc3083
DTSTAMP:20260419T172723
DTSTART:20260501T110000Z
DTEND:20260501T143000Z
TZID:Europe/Berlin
LOCATION:Bliesgau-Alpaka Erzentaler Hof\,  Im Erzental 1\,  66453 Gersheim
SUMMARY:Biosphären Tour - Alpaka Wanderung 4 km
DESCRIPTION: Alpaka-Wanderung in Gersheim – Natur erleben &amp; Alpakas hautnah spüren! Datum: 01.Mai 2026 Uhrzeit: 13:00 Uhr Dauer: ca. 3\, 5Stunden Ort: Erzentalerhof\,  Gersheim Preis: • 34 € pro Person mit Alpaka • 18 € pro Person als Begleitung ohne Alpaka • Kinder unter 6 Jahren kostenlos \, Kinder bis 14 Jahre 3[..]\nhttps://www.bliesgau-alpaka.de/Veranstaltungen/biosphaeren-tour-alpaka-wanderung-4-km-8/
URL:https://www.bliesgau-alpaka.de/Veranstaltungen/biosphaeren-tour-alpaka-wanderung-4-km-8/
END:VEVENT
END:VCALENDAR